Workbook

Sheet Cuestionario
B2: CATEGORIA | C2: CONFIDENCIALIDAD | D2: INTEGRIDAD | E2: TRAZABILIDAD | F2: AUTENTICIDAD | G2: DISPONIBILIDAD
B3: =IFERROR(Calculadora!L9,"") | C3: =IFERROR(Calculadora!P9,"") | D3: =IFERROR(Calculadora!Q9,"") | E3: =IFERROR(Calculadora!O9,"") | F3: =IFERROR(Calculadora!N9,"") | G3: =IFERROR(Calculadora!M9,"")
B7: Indique el nombre del Sistema de Información:
B11: CATEGORÍA DEL SISTEMA DE INFORMACIÓN: | E11: =IF(OR(Calculadora!E71=0,Calculadora!E63=0,Calculadora!E55=0,Calculadora!E47=0,Calculadora!E32=0,AND(Calculadora!E32=4,Calculadora!N37=FALSE)),"Aún quedan preguntas por contestar",Calculadora!F85) -> Aún quedan preguntas por contestar
B13: CUESTIONARIO RELATIVO A LA CATEGORIZACIÓN DE LOS SISTEMAS DE INFORMACIÓN (CITA)
B14: Para la categorización de los sistemas de información se debe tener en cuenta cómo afectaría un incidente a las 5 dimensiones de seguridad: confidencialidad, integridad, trazabilidad, autenticidad y disponibilidad. Para los sistemas de información, el ENS establece tres categorías de seguridad: BÁSICA, MEDIA y ALTA. - El Sistema de Información será de categoría BÁSICA si alguna de sus dimensiones de seguridad alcanza el nivel BAJO y ninguna alcanza un nivel superior. - El Sistema de Información será de categoría MEDIA si alguna de sus dimensiones de seguridad alcanza el nivel MEDIO y ninguna alcanza un nivel superior. - El Sistema de Información será de categoría ALTA si alguna de sus dimensiones de seguridad alcanza el nivel ALTO. Con este propósito, se presenta el siguiente cuestionario, en el que se deberá seleccionar para cada dimensión una de los posibles opciones que podrían derivarse en caso de un incidente en la Administración de Justicia. La finalidad de este cuestionario es servir como guía orientativa para la categorización del Sistema de Información. El cuestionario se divide en dos bloques: En el primer bloque se evalúan las dimensiones que afectan a la protección de la información: confidencialidad, integridad, trazabilidad y autenticidad. Estas dimensiones garantizan que los datos se mantengan accesibles únicamente para quienes estén autorizados, no sean alterados de forma indebida, provengan de fuentes legítimas y quede constancia de su tratamiento. En el segundo bloque se aborda la dimensión relativa a los servicios: la disponibilidad, entendida como la capacidad de los sistemas de información para estar accesibles y operativos cuando se requieran.
B27: CONFIDENCIALIDAD
B29: 1. La información que se trata en el Sistema de Información…
B30: (Marque la opción que más se ajuste a su Sistema de Información)
C33: Es de carácter público y puede ser accesible por cualquier persona, dentro y fuera de la Administración de Justicia.
C34: Puede ser conocida por cualquier trabajador de la Administración de Justicia y terceros ajenos autorizados; la información contiene datos personales de categoría general.
C35: Solo puede ser conocida por ciertos trabajadores de la Administración de Justicia que lo necesiten para el ejercicio de sus funciones; la información contiene datos personales de categoría general.
C36: Solo puede ser conocida por un número muy reducido de personas dentro de la Administración de Justicia; la información podría contener datos personales de categoría especial.
B37: 2. Si la información que se trata en el Sistema de Información se hiciese pública o se divulgase y pudiese ser conocida por terceros que no deben tener acceso a ella… (Marque la opción que más se ajuste a su Sistema de Información)
B38: Perjuicio o impacto en los derechos de las personas
C40: No causaría ningún perjuicio o impacto en los derechos del interesado.
C41: Podría causar un perjuicio o impacto leve en los derechos del interesado. La información contiene datos personales de categoría general.
C42: Podría causar un perjuicio o impacto grave en los derechos del interesado. La información contiene datos personales de categoría general.
C43: Podría causar un perjuicio o impacto muy grave en los derechos del interesado. La información podría contener datos personales de categoría especial.
B45: Reputacional
C47: No supondría daño reputacional alguno.
C48: Supondría un daño moderado de imagen de la Administración de Justicia, centrado más en el hecho del error de publicación que por la sensibilidad de la información publicada en sí.
C49: Supondría un daño reputacional importante para la Administración de Justicia, pudiendo provocar protestas colectivas de algunos ciudadanos.
C50: Supondría una pérdida de credibilidad e imagen irreversible para la Administración de Justicia de cara a los ciudadanos, pudiendo provocar protestas colectivas masivas e incluso alteraciones de orden público.
B52: Legal
C54: No supondría incumplimiento legal.
C55: Supondría un incumplimiento legal leve.
C56: Supondría un incumplimiento legal grave.
C57: Supondría un incumplimiento legal muy grave.
B61: INTEGRIDAD
B63: 1. Si la información que se trata en el Sistema de Información fuese alterada de manera no autorizada…
B64: (Marque la opción que más se ajuste a su Sistema de Información)
B65: Perjuicio o impacto en los derechos de las personas
C67: No causaría ningún perjuicio o impacto en los derechos del interesado.
C68: Podría causar un perjuicio o impacto leve en los derechos del interesado.
C69: Podría causar un perjuicio o impacto grave en los derechos del interesado.
C70: Podría causar un perjuicio o impacto muy grave en los derechos del interesado.
B73: Reputacional
C75: No supondría daño reputacional alguno para la Administración de Justicia.
C76: Supondría un daño moderado en la imagen de la Administración de Justicia, focalizado más en la existencia del error que en el contenido alterado en sí. Podría provocar pérdida de confianza pública y profesional.
C77: Supondría un daño reputacional importante para la Administración de Justicia, pudiendo provocar protestas colectivas de algunos ciudadanos.
C78: Supondría una pérdida de credibilidad e imagen irreversible para la Administración de Justicia de cara a los ciudadanos, pudiendo provocar protestas colectivas masivas e incluso alteraciones de orden público.
B80: Legal
C82: No supondría incumplimiento legal.
C83: Supondría un incumplimiento legal leve.
C84: Supondría un incumplimiento legal grave.
C85: Supondría un incumplimiento legal muy grave.
B88: TRAZABILIDAD
B90: 1. Si no se pudiese saber quién ha realizado una acción (por ejemplo: acceder, consultar, eliminar, modificar, publicar...) sobre la información contenida en el Sistema de Información... Considere para su valoración los sistemas de información más habituales, como los utilizados en Tribunales, Fiscalías, y sistemas auxiliares tales como INTCF, SIRAJ, PNJ, LexNET, o las sedes judiciales electrónicas, entre otros.
B91: (Marque la opción que más se ajuste a su Sistema de Información)
B92: Perjuicio o impacto en los derechos de las personas
C93: No causaría ningún perjuicio o impacto en los derechos del interesado.
C94: Podría causar un perjuicio o impacto leve en los derechos del interesado.
C95: Podría causar un perjuicio o impacto grave en los derechos del interesado.
C96: Podría causar un perjuicio o impacto muy grave en los derechos del interesado.
B99: Reputacional
C101: No supondría daño reputacional alguno, ya que es irrelevante conocer quién realiza acciones sobre la información. Por ejemplo: un panel de acceso público con estadísticas judiciales agregadas.
C102: Supondría un daño moderado en la imagen de la Administración de Justicia pero sin una pérdida de confianza generalizada.
C103: Supondría un daño reputacional importante para la Administración de Justicia, pudiendo provocar protestas colectivas de algunos ciudadanos.
C104: Supondría una pérdida de credibilidad e imagen irreversible para la Administración de Justicia de cara a los ciudadanos, pudiendo provocar protestas colectivas masivas e incluso alteraciones de orden público.
B106: Legal
C108: No supondría incumplimiento legal.
C109: Supondría un incumplimiento legal leve.
C110: Supondría un incumplimiento legal grave.
C111: Supondría un incumplimiento legal muy grave.
B116: AUTENTICIDAD
B118: 1. La imposibilidad de garantizar la veracidad de la información contenida en cualquiera de los documentos o actuaciones procesales que integran el Sistema de Información supondría…
B119: (Marque la opción que más se ajuste a su Sistema de Información)
B120: Perjuicio o impacto en los derechos de las personas
C122: No causaría ningún perjuicio o impacto en los derechos del interesado.
C123: Podría causar un perjuicio o impacto leve en los derechos del interesado.
C124: Podría causar un perjuicio o impacto grave en los derechos del interesado.
C125: Podría causar un perjuicio o impacto muy grave en los derechos del interesado.
B127: Reputacional
C129: No supondría daño reputacional alguno para la Administración de Justicia.
C130: Supondría un daño moderado en la imagen de la Administración de Justicia, focalizado más en la existencia del error que en el contenido alterado en sí. Podría provocar pérdida de confianza pública y profesional.
C131: Supondría un daño reputacional importante para la Administración de Justicia, pudiendo provocar protestas colectivas de algunos ciudadanos.
C132: Supondría una pérdida de credibilidad e imagen irreversible para la Administración de Justicia: aplicable, por ejemplo, en situaciones de falsedad sistemática o suplantación de actuaciones judiciales, que puedan ser percibidas como corrupción, manipulación de justicia o vulneración sistemática de derechos.
B134: Legal
C136: No supondría incumplimiento legal.
C137: Supondría un incumplimiento legal leve.
C138: Supondría un incumplimiento legal grave.
C139: Supondría un incumplimiento legal muy grave.
B142: CUESTIONARIO RELATIVO A LA CATEGORIZACIÓN DE LOS SISTEMAS DE INFORMACIÓN (D)
B143: En este segundo bloque se aborda la dimensión relativa a los servicios: la disponibilidad, la cual resulta fundamental para asegurar la continuidad de la actividad judicial, ya que una interrupción en el acceso a los sistemas —ya sea por fallos técnicos, ciberataques o cualquier otro incidente— podría paralizar procedimientos, retrasar resoluciones o impedir el ejercicio efectivo de derechos fundamentales. Permite establecer prioridades y ayuda a determinar el orden en que los servicios se deben ir restableciendo para poder cumplir con los objetivos de la Administración de Justicia, en el menor tiempo posible.
B154: 1.- Refiriéndonos al momento de mayor actividad durante el año. ¿Cuál de las siguientes afirmaciones describe mejor el Sistema de Información bajo su responsabilidad?
C156: El Sistema de Información no colabora directamente con el objetivo de la Administración de Justicia pero facilita el desempeño de otros Sistemas de Información que sí lo hacen.
C157: Los resultados obtenidos del Sistema de Información son utilizados para facilitar el cumplimiento de los objetivos de la Administración de Justicia, su ausencia dificultaría pero no impediría que se alcanzaran los objetivos, ya que se puede realizar el trámite por un medio alternativo.
C158: Su ausencia representaría un impedimento para que se alcanzaran algunos de los objetivos de la Administración de Justicia.
C159: Sin este Sistema de Información la Administración de Justicia no sería capaz de alcanzar ninguno de sus objetivos. Por ejemplo: Sistema de registros administrativos de apoyo a la Administración de Justicia, al no poder consultar y comprobar la peligrosidad de un detenido, la existencia de una medida cautelar, o de una requisitoria cuyo conocimiento hubiera facilitado la detención, y evitado los riesgos para los derechos de los ciudadanos.
B164: 2.- En caso de que el personal de la Administración de Justicia a cargo de la gestión del Sistema de Información no pueda acceder a las oficinas.
C166: Tienen los recursos para trabajar en forma remota.
C167: Pueden trabajar en remoto, pero habría que suministrarles el equipamiento.
C168: No es posible el trabajo en remoto, pero se podría habilitar otro centro.
C169: No hay posibilidad de trabajar en un sitio distinto a la oficina.
B173: 3.- Indique la cantidad de recursos necesarios por el SI para mantenerse operativo.
C175: El funcionamiento del SI requiere servidores de uso exclusivo.
C176: El funcionamiento del SI hace uso de servidores que pueden ser de uso compartido (Virtualización)
C177: El funcionamiento del SI no requiere del uso de servidores pero si de ordenadores personales.
C178: El SI no requiere el uso de equipos informáticos.
...

Sheet Calculadora
B3: Nombre | D3: Descripción | E3: Pregunta | F3: Resultados | H3: VALORACIÓN IMPACTO
A4: 0 | B4: Útil | D4: El SI no colabora directamente con el objetivo de la organización pero facilita el desempeño de otros SI que sí lo hacen. | E4: 1 | F4: =CHOOSE(A4,B4,B5,B6,B7,B8) -> #VALUE! | H4: =ROUND((F5+F12+0+F19+F26+F34+F41),0) -> 0
B5: Necesario | D5: Los resultados obtenidos del SI son utilizados para facilitar el cumplimiento de los objetivos de la organización, su ausencia no representaría un impedimento para que se alcanzaran los objetivos. | F5: =A4*0.4 -> 0
B6: Vital | D6: Su ausencia representaría un impedimento para que se alcanzaran algunos de los objetvos de la organización.
B7: Crítico | D7: Sin él SI la organización no sería capáz de alcanzar ninguno de sus objetivos.
B8: Otro | D8: Otro, describa brevemente: | H8: CATEGORIA SI | K8: SISTEMA | L8: CATEGORIA | M8: DISPONIBILIDAD | N8: AUTENTICIDAD | O8: TRAZABILIDAD | P8: CONFIDENCIALIDAD | Q8: INTEGRIDAD
H9: =F85 -> #VALUE! | K9: =Cuestionario!B9 -> 0 | L9: =H9 -> #VALUE! | M9: =F35 -> #VALUE! | N9: =F72 -> #VALUE! | O9: =F64 -> #VALUE! | P9: =F48 -> #VALUE! | Q9: =F56 -> #VALUE!
A11: 0 | B11: Flexible | D11: Tienen los recursos para trabajar en forma remota. | E11: 2 | F11: =CHOOSE(A11,B11,B12,B13,B14,B15) -> #VALUE!
B12: Condicionado | D12: Pueden trabajar en remoto pero habría que suministrarles el equipamiento. | F12: =A11*0.2 -> 0
B13: Posible | D13: No es posible el trabajo en remoto, pero se podría habilitar otro centro.
B14: Imposible | D14: No hay posibilidad de trabajar en un sitio distinto a la oficina.
B15: Otro
A18: 0 | B18: Único | D18: El SI es utilizado por una única unidad sin acceso al público. | E18: 4 | F18: =CHOOSE(A18,B18,B19,B20,B21,B22) -> #VALUE!
B19: Múltiple | D19: EL SI es utilizado por varias unidades en la administración pública, sin acceso al público. | F19: =A18*0.18 -> 0
B20: UniPublica | D20: El SI es utilizado por una única unidad con acceso a los ciudadanos.
B21: MultiPublica | D21: EL SI es utilizado por varias unidades en la administración pública, con acceso a los ciudadanos.
B22: Otros | D22: Otro, describa brevemente:
A25: 1 | B25: 24Hrs | D25: El SI se monitoriza 24/7 | E25: 5 | F25: =CHOOSE(A25,B25,B26,B27,B28,B29) -> 24Hrs
B26: Oficina | D26: El SI se monitoriza en horario de oficina. | F26: 0 | G26: No se considera en este análisis de impacto
B27: Semanal | D27: Se comprueba el funcionamiento del SI al menos una vez a la semana.
B28: Nunca | D28: No se verifica el funcionamiento del SI, sólo cuando algún usuario reporta que ha ocurrido una incidencia
B29: Otro | C29: 2 | D29: Otro, describa brevemente:
E32: =A33 -> 0 | F32: Valoración de la DISPONIBILIDAD | H32: enero | I32: FALSE | K32: mayo | L32: FALSE | M32: septiembre | N32: FALSE
A33: 0 | B33: más 5 | D33: Más de 5 días | F33: =CHOOSE(A33,D33,D34,D35,D36) -> #VALUE! | H33: febrero | I33: FALSE | K33: junio | L33: FALSE | M33: octubre | N33: FALSE
B34: 1 a 5 | D34: Entre 1 y 5 dias | F34: =A33*0.12 -> 0 | H34: marzo | I34: FALSE | K34: julio | L34: FALSE | M34: noviembre | N34: FALSE
B35: 4 a 24 Hrs | D35: Entre 4 y 24hrs | F35: =CHOOSE(E32,"na","BAJO","MEDIO","ALTO") -> #VALUE! | H35: abril | I35: FALSE | K35: agosto | L35: FALSE | M35: diciembre | N35: FALSE
B36: 4 | D36: 4hrs o menos
M37: RESUMEN: | N37: =IF(AND(I32=FALSE,I33=FALSE,I34=FALSE,I35=FALSE,L32=FALSE,L33=FALSE,L34=FALSE,L35=FALSE,N32=FALSE,N33=FALSE,N34=FALSE,N35=FALSE),FALSE,TRUE) -> FALSE
A40: 0 | B40: 4 o menos | D40: 4hrs o menos | E40: 7 | F40: =CHOOSE(A40,D40,D41,D42,D43) -> #VALUE!
B41: 4 a 24 | D41: Entre 4 y 24hrs | F41: =A40*0.1 -> 0
B42: 1 a 5 | D42: Entre 1 y 5 dias
B43: mas de 5 | D43: Más de 5 días
A46: Confidencialidad
A47: 0 | D47: =CHOOSE(A47,"na","Bajo","Medio","Alto") -> #VALUE! | E47: =A51 -> 0 | F47: Valoración de la CONFIDENCIALIDAD
A48: 0 | D48: =CHOOSE(A48,"na","Bajo","Medio","Alto") -> #VALUE! | F48: =CHOOSE(A51,"na","BAJO","MEDIO","ALTO") -> #VALUE!
A49: 0 | D49: =CHOOSE(A49,"na","Bajo","Medio","Alto") -> #VALUE!
A50: 0 | D50: =CHOOSE(A50,"na","Bajo","Medio","Alto") -> #VALUE!
A51: =MAX(A47:A50) -> 0 | D51: =CHOOSE(A51,"na","Bajo","Medio","Alto") -> #VALUE!
A54: Integridad
A55: 0 | D55: =CHOOSE(A55,"na","Bajo","Medio","Alto") -> #VALUE! | E55: =A59 -> 0 | F55: Valoración de la INTEGRIDAD
A56: 0 | D56: =CHOOSE(A56,"na","Bajo","Medio","Alto") -> #VALUE! | F56: =CHOOSE(A59,"na","BAJO","MEDIO","ALTO") -> #VALUE!
A57: 0 | D57: =CHOOSE(A57,"na","Bajo","Medio","Alto") -> #VALUE!
A58: 0 | D58: =CHOOSE(A58,"na","Bajo","Medio","Alto") -> #VALUE!
A59: =MAX(A55:A58) -> 0 | D59: =CHOOSE(A59,"na","Bajo","Medio","Alto") -> #VALUE!
A62: Trazabilidad
A63: 0 | D63: =CHOOSE(A63,"na","Bajo","Medio","Alto") -> #VALUE! | E63: =A67 -> 0 | F63: Valoración de la TRAZABILIDAD
A64: 0 | D64: =CHOOSE(A64,"na","Bajo","Medio","Alto") -> #VALUE! | F64: =CHOOSE(A67,"na","BAJO","MEDIO","ALTO") -> #VALUE!
A65: 0 | D65: =CHOOSE(A65,"na","Bajo","Medio","Alto") -> #VALUE!
A66: 0 | D66: =CHOOSE(A66,"na","Bajo","Medio","Alto") -> #VALUE!
A67: =MAX(A63:A66) -> 0 | D67: =CHOOSE(A67,"na","Bajo","Medio","Alto") -> #VALUE!
A70: Autenticidad
A71: 0 | D71: =CHOOSE(A71,"na","Bajo","Medio","Alto") -> #VALUE! | E71: =A75 -> 0 | F71: Valoración de la AUTENTICIDAD
A72: 0 | D72: =CHOOSE(A72,"na","Bajo","Medio","Alto") -> #VALUE! | F72: =CHOOSE(A75,"na","BAJO","MEDIO","ALTO") -> #VALUE!
A73: 0 | D73: =CHOOSE(A73,"na","Bajo","Medio","Alto") -> #VALUE!
A74: 0 | D74: =CHOOSE(A74,"na","Bajo","Medio","Alto") -> #VALUE!
A75: =MAX(A71:A74) -> 0 | D75: =CHOOSE(A75,"na","Bajo","Medio","Alto") -> #VALUE!
A78: Datos Pers
A79: 0 | D79: =CHOOSE(A79,"na","Bajo","Medio","Alto") -> #VALUE!
E84: =MAX(E79,E71,E63,E55,E47,E32) -> 0 | F84: CATEGORÍA Sistema de Información
F85: =CHOOSE(E84,"BÁSICA","BÁSICA","MEDIA","ALTA") -> #VALUE!

Sheet Cuestionario ALTO
B7: Indique el nombre del Sistema de Información:
B9: =IFERROR(Cuestionario!B9,"") -> 0
B11: CATEGORÍA DEL SISTEMA DE INFORMACIÓN: | E11: =IF(OR('Calculadora ALTO'!C5=0,'Calculadora ALTO'!C11=0,'Calculadora ALTO'!C17=0,'Calculadora ALTO'!C23=0,'Calculadora ALTO'!C29=0),"Aún quedan preguntas por contestar",'Calculadora ALTO'!H4) -> Aún quedan preguntas por contestar
B13: CUESTIONARIO SISTEMA DE INFORMACIÓN CATEGORÍA ALTA (D)
B14: Estas cuestiones han sido elaboradas exclusivamente para sistemas de categoría ALTA, con la intención de ahondar aún más en ciertos aspectos que nos permitan determinar la gravedad de los daños que supondría la materialización de un incidente que afectase a la disponibilidad (D) del Sistema de Información. Al finalizar el cuestionario, se generará una categorización final del sistema de información.
B27: CUESTIONARIO ALTO
B29: 1. ¿La indisponibilidad del Sistema de Información podría afectar a la seguridad jurídica y a los derechos fundamentales de las personas, poniendo en peligro su libertad, derecho a la tutela judicial efectiva o garantías procesales? (Ejemplo: la imposibilidad de acceder en tiempo real a resoluciones judiciales, órdenes de protección o mandamientos de prisión podría dejar a una persona desprotegida frente a situaciones de violencia, facilitar una fuga, o impedir la correcta actuación de las fuerzas de seguridad).
B30: Respuesta
C32: SÍ
C33: NO
C34: Si la respuesta es SÍ, justifique la respuesta:
B39: 2. Si el incumplimiento se debiese a una causa de fuerza mayor, ¿supondría los mismos efectos y consecuencias para la Administración de Justicia sin posibilidad de resarcirlos? (Ejemplo: un desastre natural, un ataque terrorista o una catástrofe grave que provoque la interrupción temporal de sistemas judiciales críticos podría ser comprendido por los ciudadanos y operadores jurídicos, quienes esperarían un tiempo prudencial para la recuperación del servicio sin perder confianza ni cuestionar la integridad de la Administración de Justicia. En estos casos, el impacto reputacional y legal podría ser menor y parcialmente resarcible).
B40: Respuesta
C42: SÍ
C43: NO
C44: Si la respuesta es SÍ, justifique la respuesta:
B48: 3. ¿La indisponibilidad del servicio supondría una pérdida reputacional irreparable para la Administración de Justicia? (Ejemplo: la interrupción prolongada del sistema de gestión de expedientes penales, que impida el seguimiento de procesos judiciales, la notificación a las partes implicadas y la ejecución de sentencias).
B49: Respuesta
C51: SÍ
C52: NO
C53: Si la respuesta es SÍ, justifique la respuesta:
B57: 4. ¿La indisponibilidad del sistema supondría un incumplimiento legal grave e irreparable? (Ejemplo: la caída prolongada de LexNET, impediría el cumplimiento de plazos legales y el derecho de las partes a ser informadas oportunamente, lo que podría derivar en nulidades procesales).
B58: Respuesta
C60: SÍ
C61: NO
C62: Si la respuesta es SÍ, justifique la respuesta:
B66: 5. ¿La indisponibilidad del sistema supondría un incumplimiento de plazos legales sin posibilidad de prórroga? (Ejemplo: la caída de LexNET u otras plataformas de gestión procesal electrónica podría provocar la pérdida del derecho a recurrir o interponer medios de defensa, afectando gravemente a la tutela judicial efectiva y generando consecuencias legales irreversibles)
B67: Respuesta
C69: SÍ
C70: NO
C71: Si la respuesta es SÍ, justifique la respuesta:

Sheet Calculadora ALTO
B3: Pregunta 1 | H3: Resultado Final
E4: Resultado | H4: =IF(I4=2,"MEDIA","ALTA") -> ALTA | I4: =MIN(C:C) -> 0
C5: 0 | E5: =IF(C5=2,"Media","Alta") -> Alta
B9: Pregunta 2
E10: Resultado
C11: 0 | E11: =IF(C11=2,"Media","Alta") -> Alta
B15: Pregunta 3
E16: Resultado
C17: 0 | E17: =IF(C17=2,"Media","Alta") -> Alta
B21: Pregunta 4
E22: Resultado
C23: 0 | E23: =IF(C23=2,"Media","Alta") -> Alta
B27: Pregunta 5
E28: Resultado
C29: 0 | E29: =IF(C29=2,"Media","Alta") -> Alta
